BEGIN:VCALENDAR
VERSION:2.0
PRODID:-//Turas - ECPv6.15.20//NONSGML v1.0//EN
CALSCALE:GREGORIAN
METHOD:PUBLISH
X-WR-CALNAME:Turas
X-ORIGINAL-URL:https://turasbelfast.com
X-WR-CALDESC:Events for Turas
REFRESH-INTERVAL;VALUE=DURATION:PT1H
X-Robots-Tag:noindex
X-PUBLISHED-TTL:PT1H
BEGIN:VTIMEZONE
TZID:Europe/London
BEGIN:DAYLIGHT
TZOFFSETFROM:+0000
TZOFFSETTO:+0100
TZNAME:BST
DTSTART:20240331T010000
END:DAYLIGHT
BEGIN:STANDARD
TZOFFSETFROM:+0100
TZOFFSETTO:+0000
TZNAME:GMT
DTSTART:20241027T010000
END:STANDARD
BEGIN:DAYLIGHT
TZOFFSETFROM:+0000
TZOFFSETTO:+0100
TZNAME:BST
DTSTART:20250330T010000
END:DAYLIGHT
BEGIN:STANDARD
TZOFFSETFROM:+0100
TZOFFSETTO:+0000
TZNAME:GMT
DTSTART:20251026T010000
END:STANDARD
BEGIN:DAYLIGHT
TZOFFSETFROM:+0000
TZOFFSETTO:+0100
TZNAME:BST
DTSTART:20260329T010000
END:DAYLIGHT
BEGIN:STANDARD
TZOFFSETFROM:+0100
TZOFFSETTO:+0000
TZNAME:GMT
DTSTART:20261025T010000
END:STANDARD
END:VTIMEZONE
BEGIN:VEVENT
DTSTART;TZID=Europe/London:20251210T190000
DTEND;TZID=Europe/London:20251210T230000
DTSTAMP:20260423T210248
CREATED:20251117T135126Z
LAST-MODIFIED:20251117T135931Z
UID:10000278-1765393200-1765407600@turasbelfast.com
SUMMARY:Tob-Ghaeltacht / Pop Up Gaeltacht December
DESCRIPTION:Bígí linn! Join us in Boundary Brewery for the December edition of our Pop Up Gaeltacht. People with all levels of Irish are welcome to come and use their Irish in an informal setting.
URL:https://turasbelfast.com/event/tob-ghaeltacht-pop-up-gaeltacht-december-2/
LOCATION:Boundary Brewery\, PortView Trade Centre\, Belfast\, Down\, BT4 1HE\, United Kingdom
CATEGORIES:Tob-Ghaeltacht
ORGANIZER;CN="Turas":MAILTO:niall.pairc@ebm.org.uk
END:VEVENT
BEGIN:VEVENT
DTSTART;TZID=Europe/London:20251112T190000
DTEND;TZID=Europe/London:20251112T230000
DTSTAMP:20260423T210248
CREATED:20250805T133818Z
LAST-MODIFIED:20250805T133818Z
UID:10000264-1762974000-1762988400@turasbelfast.com
SUMMARY:Tob-Ghaeltacht / Pop Up Gaeltacht November
DESCRIPTION:Bígí linn! Join us in Boundary Brewery for the November edition of our Pop Up Gaeltacht. People with all levels of Irish are welcome to come and use their Irish in an informal setting.
URL:https://turasbelfast.com/event/tob-ghaeltacht-pop-up-gaeltacht-november/
LOCATION:Boundary Brewery\, PortView Trade Centre\, Belfast\, Down\, BT4 1HE\, United Kingdom
CATEGORIES:Tob-Ghaeltacht
ORGANIZER;CN="Turas":MAILTO:niall.pairc@ebm.org.uk
END:VEVENT
BEGIN:VEVENT
DTSTART;TZID=Europe/London:20251008T190000
DTEND;TZID=Europe/London:20251008T230000
DTSTAMP:20260423T210248
CREATED:20250805T133630Z
LAST-MODIFIED:20250805T133630Z
UID:10000263-1759950000-1759964400@turasbelfast.com
SUMMARY:Tob-Ghaeltacht / Pop Up Gaeltacht October
DESCRIPTION:Bígí linn! Join us in Boundary Brewery for the October edition of our Pop Up Gaeltacht. People with all levels of Irish are welcome to come and use their Irish in an informal setting.
URL:https://turasbelfast.com/event/tob-ghaeltacht-pop-up-gaeltacht-october/
LOCATION:Boundary Brewery\, PortView Trade Centre\, Belfast\, Down\, BT4 1HE\, United Kingdom
CATEGORIES:Tob-Ghaeltacht
ORGANIZER;CN="Turas":MAILTO:niall.pairc@ebm.org.uk
END:VEVENT
BEGIN:VEVENT
DTSTART;TZID=Europe/London:20250917T190000
DTEND;TZID=Europe/London:20250917T230000
DTSTAMP:20260423T210248
CREATED:20250805T133259Z
LAST-MODIFIED:20250910T055008Z
UID:10000262-1758135600-1758150000@turasbelfast.com
SUMMARY:Tob-Ghaeltacht / Pop Up Gaeltacht September
DESCRIPTION:Bígí linn! Join us in Boundary Brewery for the September edition of our Pop Up Gaeltacht. People with all levels of Irish are welcome to come and use their Irish in an informal setting.
URL:https://turasbelfast.com/event/tob-ghaeltacht-pop-up-gaeltacht-september/
LOCATION:Boundary Brewery\, PortView Trade Centre\, Belfast\, Down\, BT4 1HE\, United Kingdom
CATEGORIES:Tob-Ghaeltacht
ORGANIZER;CN="Turas":MAILTO:niall.pairc@ebm.org.uk
END:VEVENT
BEGIN:VEVENT
DTSTART;TZID=Europe/London:20250820T190000
DTEND;TZID=Europe/London:20250820T230000
DTSTAMP:20260423T210248
CREATED:20250805T132719Z
LAST-MODIFIED:20250813T150411Z
UID:10000261-1755716400-1755730800@turasbelfast.com
SUMMARY:Tob-Ghaeltacht / Pop Up Gaeltacht August
DESCRIPTION:Bígí linn! Join us in Boundary Brewery for the August edition of our Pop Up Gaeltacht. People with all levels of Irish are welcome to come and use their Irish in an informal setting.
URL:https://turasbelfast.com/event/tob-ghaeltacht-pop-up-gaeltacht-august/
LOCATION:Boundary Brewery\, PortView Trade Centre\, Belfast\, Down\, BT4 1HE\, United Kingdom
CATEGORIES:Tob-Ghaeltacht
ORGANIZER;CN="Turas":MAILTO:niall.pairc@ebm.org.uk
END:VEVENT
END:VCALENDAR