BEGIN:VCALENDAR
VERSION:2.0
PRODID:-//Turas - ECPv6.15.20//NONSGML v1.0//EN
CALSCALE:GREGORIAN
METHOD:PUBLISH
X-WR-CALNAME:Turas
X-ORIGINAL-URL:https://turasbelfast.com
X-WR-CALDESC:Events for Turas
REFRESH-INTERVAL;VALUE=DURATION:PT1H
X-Robots-Tag:noindex
X-PUBLISHED-TTL:PT1H
BEGIN:VTIMEZONE
TZID:Europe/London
BEGIN:DAYLIGHT
TZOFFSETFROM:+0000
TZOFFSETTO:+0100
TZNAME:BST
DTSTART:20230326T010000
END:DAYLIGHT
BEGIN:STANDARD
TZOFFSETFROM:+0100
TZOFFSETTO:+0000
TZNAME:GMT
DTSTART:20231029T010000
END:STANDARD
BEGIN:DAYLIGHT
TZOFFSETFROM:+0000
TZOFFSETTO:+0100
TZNAME:BST
DTSTART:20240331T010000
END:DAYLIGHT
BEGIN:STANDARD
TZOFFSETFROM:+0100
TZOFFSETTO:+0000
TZNAME:GMT
DTSTART:20241027T010000
END:STANDARD
BEGIN:DAYLIGHT
TZOFFSETFROM:+0000
TZOFFSETTO:+0100
TZNAME:BST
DTSTART:20250330T010000
END:DAYLIGHT
BEGIN:STANDARD
TZOFFSETFROM:+0100
TZOFFSETTO:+0000
TZNAME:GMT
DTSTART:20251026T010000
END:STANDARD
BEGIN:DAYLIGHT
TZOFFSETFROM:+0000
TZOFFSETTO:+0100
TZNAME:BST
DTSTART:20260329T010000
END:DAYLIGHT
BEGIN:STANDARD
TZOFFSETFROM:+0100
TZOFFSETTO:+0000
TZNAME:GMT
DTSTART:20261025T010000
END:STANDARD
BEGIN:DAYLIGHT
TZOFFSETFROM:+0000
TZOFFSETTO:+0100
TZNAME:BST
DTSTART:20270328T010000
END:DAYLIGHT
BEGIN:STANDARD
TZOFFSETFROM:+0100
TZOFFSETTO:+0000
TZNAME:GMT
DTSTART:20271031T010000
END:STANDARD
END:VTIMEZONE
BEGIN:VEVENT
DTSTART;VALUE=DATE:20260330
DTEND;VALUE=DATE:20260411
DTSTAMP:20260423T194637
CREATED:20250805T145034Z
LAST-MODIFIED:20250805T145156Z
UID:10000271-1774828800-1775865599@turasbelfast.com
SUMMARY:Sos na Casca / Easter Break
DESCRIPTION:This is our Easter break.
URL:https://turasbelfast.com/event/sos-na-casca-easter-break-2026/
CATEGORIES:Turas
END:VEVENT
BEGIN:VEVENT
DTSTART;VALUE=DATE:20260317
DTEND;VALUE=DATE:20260318
DTSTAMP:20260423T194637
CREATED:20250805T144808Z
LAST-MODIFIED:20250805T144808Z
UID:10000270-1773705600-1773791999@turasbelfast.com
SUMMARY:Lá Fhéile Pádraig / St Patrick’s Day
DESCRIPTION:Lá Fhéile Pádraig faoi mhaise daoibh!  \nHappy St Patrick’s day!
URL:https://turasbelfast.com/event/la-fheile-padraig-st-patricks-day-2026/
CATEGORIES:Turas
END:VEVENT
BEGIN:VEVENT
DTSTART;TZID=Europe/London:20260313T200000
DTEND;TZID=Europe/London:20260313T210000
DTSTAMP:20260423T194637
CREATED:20260204T153235Z
LAST-MODIFIED:20260204T153236Z
UID:10000289-1773432000-1773435600@turasbelfast.com
SUMMARY:Meet the Author: Stiofán Carson
DESCRIPTION:Dé hAoine 13ú de mhí an Mhárta 2026\nFriday 13th March 2026\n			\n				\n				\n				\n				\n				8pm – 9pm \n			\n			\n				\n				\n				\n				\n			\n				\n				\n				\n				\n				\n				\n				\n				\n				\n				\n				A short talk and q&a with Dr. Stiofán Carson on his experience learning Irish\, working in the Irish sector and what inspired him to write Cúpla Focal.
URL:https://turasbelfast.com/event/meet-the-author-stiofan-carson-2026/
LOCATION:Skainos Centre\, 241 Newtownards Rd\, Belfast\, BT41AF\, United Kingdom
CATEGORIES:Turas
ORGANIZER;CN="Turas":MAILTO:niall.pairc@ebm.org.uk
END:VEVENT
BEGIN:VEVENT
DTSTART;TZID=Europe/London:20260313T183000
DTEND;TZID=Europe/London:20260313T193000
DTSTAMP:20260423T194637
CREATED:20260204T152650Z
LAST-MODIFIED:20260204T153533Z
UID:10000288-1773426600-1773430200@turasbelfast.com
SUMMARY:Cúpla Focal: An Introduction to the Irish Language
DESCRIPTION:Dé hAoine 13ú de mhí an Mhárta 2026\nFriday 13th March 2026\n			\n				\n				\n				\n				\n				6:30pm – 7:30pm \n			\n			\n				\n				\n				\n				\n			\n				\n				\n				\n				\n				\n				\n				\n				\n				\n				\n				A complete beginners’ taster’s class on the Irish language based on the new edition of Cúpla Focal.
URL:https://turasbelfast.com/event/cupla-focal-in-introduction-to-the-irish-language-2026/
LOCATION:Skainos Centre\, 241 Newtownards Rd\, Belfast\, BT41AF\, United Kingdom
CATEGORIES:Turas
ORGANIZER;CN="Turas":MAILTO:niall.pairc@ebm.org.uk
END:VEVENT
BEGIN:VEVENT
DTSTART;TZID=Europe/London:20260306T190000
DTEND;TZID=Europe/London:20260306T210000
DTSTAMP:20260423T194637
CREATED:20260210T103934Z
LAST-MODIFIED:20260210T103934Z
UID:10000290-1772823600-1772830800@turasbelfast.com
SUMMARY:Atrocity ÁR: Filíocht agus Plé
DESCRIPTION:Dé hAoine 6ú de mhí an Mhárta 2026\nFriday 6th March 2026\n			\n				\n				\n				\n				\n				7pm – 9pm \n			\n			\n				\n				\n				\n				\n			\n				\n				\n				\n				\n				\n				\n				\n				\n				\n				\n				A night of poetry with Dr. Ciarán Ó Coigligh\, featuring works from the collection Atrocity Ár. \nIs bailiúchán ceannasach agus ionraic é Atrocity Arsa le Ciarán O Coigligh\, ina ndéantar iniúchadh ar chuimhne\, foréigean\, agus seasmhacht na fírinne. Bunaithe i dTrioblóidí Thuaisceart Éireann\, díríonn na dánta ar íospartaigh aonair\, ag tabhairt guth do shaolta ar cuireadh i dtost i machnamh cumhachtach ar an bhás\, ar sheasmhacht\, agus ar riachtanas an chuimhneacháin. \nMar sin féin\, tugann sé trasghearradh cothrom soiléir de na daoine a maraíodh sna Trioblóidí\, ó gach pobal amhail La Mon\, Inis Ceithleann\, Kingsmills\, Loch Inis Oileáin agus Baile Uí Mhurchú. Léirítear nádúr cuimsitheach an leabhair leis an fhormáid neamhghnách ina scríobhtar gach cuid i mBéarla agus i nGaeilge araon. \nAtrocity Ársa is a bold and unflinching collection by Dr Ciarán Ó Coigligh\, exploring memory\, violence\, and the endurance of truth. Rooted in the Northern Ireland Troubles\, the poems centre on individual victims\, giving voice to silenced lives in a powerful meditation on loss\, resistance\, and the necessity of remembrance. \nHowever\, it gives a clear balanced cross section of those who were killed in the Troubles\, from all communities such as at La Mon\, Enniskillen\, Kingsmills\, Loughinisland and Ballymurphy. The inclusive nature of the book is highlighted by the unusual format which writes each section in both English and Irish.
URL:https://turasbelfast.com/event/atrocity-ar-filiocht-agus-ple-snag-2026/
LOCATION:Skainos Centre\, 241 Newtownards Rd\, Belfast\, BT41AF\, United Kingdom
CATEGORIES:Turas
ORGANIZER;CN="Turas":MAILTO:niall.pairc@ebm.org.uk
END:VEVENT
BEGIN:VEVENT
DTSTART;TZID=Europe/London:20260301T123000
DTEND;TZID=Europe/London:20260301T150000
DTSTAMP:20260423T194637
CREATED:20260120T143844Z
LAST-MODIFIED:20260120T143844Z
UID:10000287-1772368200-1772377200@turasbelfast.com
SUMMARY:Rith nó siúlóid ar son Turas 2026 - Run or walk for Turas 2026
DESCRIPTION:Le tús a chur le Seachtain na Gaeilge 2026\, beidh an Turas 5K ar siúl i bPáirc Victeoiria Béal Feirste Dé Domhnaigh 1ú Márta 2026 12:30-3:00. \nTá muid ag eagrú rith/siúlóid 5k chun tacaíocht a thabhairt do Turas. Bainfear úsáid as an airgead a bhaileofar san imeacht seo chun an Ghaeilge a chur chun cinn agus chun athmhuintearas an phobail a fheabhsú. Tá deich bpunt ar chostas clárúcháin agus iarrtar ar iarrthóirí caoga punt a bhailiú más féidir. \nIs 5K inrochtana é seo. Beidh fáilte roimh gach cumas. Is féidir a bheith ag siúl nó ag rith. \nB’iontach an deis é a bheith faoin spéir agus an Ghaeilge a cheiliúradh i measc foghlaimeoirí agus tacaithe eile. \nBainigí úsáid as an nasc thíos le clárú agus tús a chur leis an tiomsú! \nAg dúil go mór libh a fheiceáil! \nCláraigh: https://register.enthuse.com/ps/event/Turas5K2026 \n— \nTo kick off Seachtain na Gaeilge 2026\, the Turas 5k will be held in Victoria Park Belfast on Sunday 1st March 2026 12:30-3:00. \nThe money raised from this event will be used to promote the Irish language and community reconciliation. \nThis is an accessible 5k. All abilities are welcome. You can walk or run. \nThe event will be a great opportunity to get outdoors and celebrate the Irish Language with other learners and supporters. \nPlease use the link below to sign up and start fundraising! \nThere is a £10 signup fee for each entrant and a £50 fundraising target for each participant. \nWe hope to see you there! \nRegister here: https://register.enthuse.com/ps/event/Turas5K2026
URL:https://turasbelfast.com/event/rith-no-siuloid-ar-son-turas-2026-run-or-walk-for-turas-2026/
LOCATION:Victoria Park\, Victoria Park\, Belfast\, Down\, BT4 1JT\, United Kingdom
CATEGORIES:Turas
ORGANIZER;CN="Turas":MAILTO:niall.pairc@ebm.org.uk
END:VEVENT
BEGIN:VEVENT
DTSTART;VALUE=DATE:20260209
DTEND;VALUE=DATE:20260214
DTSTAMP:20260423T194637
CREATED:20250805T144309Z
LAST-MODIFIED:20250805T144345Z
UID:10000269-1770595200-1771027199@turasbelfast.com
SUMMARY:Sos leath-théarma – Half-term break
DESCRIPTION:This week is our half term break when we have a rest in February.
URL:https://turasbelfast.com/event/sos-leath-thearma-half-term-break-feb-2026/
CATEGORIES:Turas
END:VEVENT
BEGIN:VEVENT
DTSTART;VALUE=DATE:20251215
DTEND;VALUE=DATE:20260103
DTSTAMP:20260423T194637
CREATED:20250805T143256Z
LAST-MODIFIED:20250805T143354Z
UID:10000268-1765756800-1767398399@turasbelfast.com
SUMMARY:Sos na Nollag / Christmas break
DESCRIPTION:This is our Christmas break. See you in the new year!
URL:https://turasbelfast.com/event/sos-na-nollag-christmas-break-dec-2025/
CATEGORIES:Turas
END:VEVENT
BEGIN:VEVENT
DTSTART;VALUE=DATE:20251027
DTEND;VALUE=DATE:20251101
DTSTAMP:20260423T194637
CREATED:20250805T142850Z
LAST-MODIFIED:20250805T143505Z
UID:10000267-1761523200-1761955199@turasbelfast.com
SUMMARY:Sos leath-théarma / Half-term break
DESCRIPTION:This week is our half term break when we have a rest over Halloween.
URL:https://turasbelfast.com/event/sos-leath-thearma-half-term-break-oct-2025/
CATEGORIES:Turas
END:VEVENT
BEGIN:VEVENT
DTSTART;TZID=Europe/London:20251012T123000
DTEND;TZID=Europe/London:20251012T150000
DTSTAMP:20260423T194637
CREATED:20250813T142653Z
LAST-MODIFIED:20250813T143116Z
UID:10000273-1760272200-1760281200@turasbelfast.com
SUMMARY:Rith nó siúlóid ar son Turas 2025 - Run or walk for Turas 2025
DESCRIPTION:Beidh rith/siúlóid againn\, Dé Domhnaigh an 13ú de mhí Dheireadh Fómhair i bPáirc Victoria ag 12.30. Beidh muid ag tiomsú airgid chun cur leis an obair a dhéanann muid anseo in Turas. Beidh £10 ar chostas clárúcháin agus gheobhaidh achan duine a bheas páirteach t-léine agus bonn fosta. \nCláraigh anseo: https://register.enthuse.com/ps/event/Turas5K2025 \nWe will have a 5k run and walk on Sunday\, 13th October in Victoria Park at 12.30. We will be raising money to develop the work that we do in Turas. There is a £10 registration fee and everyone who takes part will get a t-shirt and a medal. \nRegister here: https://register.enthuse.com/ps/event/Turas5K2025
URL:https://turasbelfast.com/event/run-or-walk-for-turas-2025/
LOCATION:Victoria Park\, Victoria Park\, Belfast\, Down\, BT4 1JT\, United Kingdom
CATEGORIES:Turas
ORGANIZER;CN="Turas":MAILTO:niall.pairc@ebm.org.uk
END:VEVENT
BEGIN:VEVENT
DTSTART;VALUE=DATE:20250915
DTEND;VALUE=DATE:20250916
DTSTAMP:20260423T194637
CREATED:20250805T134957Z
LAST-MODIFIED:20250805T143853Z
UID:10000266-1757894400-1757980799@turasbelfast.com
SUMMARY:Tús an téarma / Beginning of term
DESCRIPTION:This marks the week that our classes will recommence for the year. The classes will begin on 15th September. Follow the link in the navigation bar to sign up for this years classes.
URL:https://turasbelfast.com/event/tus-an-tearma-beginning-of-term-2025/
LOCATION:Skainos Centre\, 241 Newtownards Rd\, Belfast\, BT41AF\, United Kingdom
CATEGORIES:Turas
ORGANIZER;CN="Turas":MAILTO:niall.pairc@ebm.org.uk
END:VEVENT
BEGIN:VEVENT
DTSTART;TZID=Europe/London:20250307T190000
DTEND;TZID=Europe/London:20250307T220000
DTSTAMP:20260423T194637
CREATED:20250225T103537Z
LAST-MODIFIED:20250807T091032Z
UID:10000223-1741374000-1741384800@turasbelfast.com
SUMMARY:Oíche Scannáin - An Cailín Ciúin
DESCRIPTION:Join us for a movie night part of our Seachtain na Gaeilge celebrations. We will be watching “An Cailín Ciúin” which tells the story of a nine-year-old girl from a dysfunctional family who goes to live with distant relatives for the summer.
URL:https://turasbelfast.com/event/oiche-scannain-snag-2025/
LOCATION:Skainos Centre\, 241 Newtownards Rd\, Belfast\, BT41AF\, United Kingdom
CATEGORIES:Turas
ORGANIZER;CN="Turas":MAILTO:niall.pairc@ebm.org.uk
END:VEVENT
BEGIN:VEVENT
DTSTART;TZID=Europe/London:20241031T190000
DTEND;TZID=Europe/London:20241031T213000
DTSTAMP:20260423T194637
CREATED:20241017T105103Z
LAST-MODIFIED:20250807T091114Z
UID:10000218-1730401200-1730410200@turasbelfast.com
SUMMARY:Cóisir Oíche Shamhna
DESCRIPTION:Déardaoin 31ú de mhí Dheireadh Fómhair 2024\nThursday 31st October 2024\n			\n				\n				\n				\n				\n				7 – 9:30pm \n			\n			\n				\n				\n				\n				\n			\n				\n				\n				\n				\n				\n				\n				\n				\n				\n				\n				 Bígí linn do Chóisir Oíche Shamhna in Turas – Join us for the Halloween Celebration in Turas. \nCleamairí Bhéal Feirste – Belfast Rhymers \nCeol ó Ghrúpa Ceoil Turas – Music from Turas music group \nScéaltaí scanrúla! – Scary stories \nTuilleadh eolais/more information: phil.hoy@ebm.org.uk
URL:https://turasbelfast.com/event/oiche-shamhna-2024/
LOCATION:Skainos Centre\, 241 Newtownards Rd\, Belfast\, BT41AF\, United Kingdom
CATEGORIES:Turas
ORGANIZER;CN="Turas":MAILTO:niall.pairc@ebm.org.uk
END:VEVENT
END:VCALENDAR