BEGIN:VCALENDAR
VERSION:2.0
PRODID:-//Turas - ECPv6.15.20//NONSGML v1.0//EN
CALSCALE:GREGORIAN
METHOD:PUBLISH
X-WR-CALNAME:Turas
X-ORIGINAL-URL:https://turasbelfast.com
X-WR-CALDESC:Events for Turas
REFRESH-INTERVAL;VALUE=DURATION:PT1H
X-Robots-Tag:noindex
X-PUBLISHED-TTL:PT1H
BEGIN:VTIMEZONE
TZID:Europe/London
BEGIN:DAYLIGHT
TZOFFSETFROM:+0000
TZOFFSETTO:+0100
TZNAME:BST
DTSTART:20210328T010000
END:DAYLIGHT
BEGIN:STANDARD
TZOFFSETFROM:+0100
TZOFFSETTO:+0000
TZNAME:GMT
DTSTART:20211031T010000
END:STANDARD
BEGIN:DAYLIGHT
TZOFFSETFROM:+0000
TZOFFSETTO:+0100
TZNAME:BST
DTSTART:20220327T010000
END:DAYLIGHT
BEGIN:STANDARD
TZOFFSETFROM:+0100
TZOFFSETTO:+0000
TZNAME:GMT
DTSTART:20221030T010000
END:STANDARD
BEGIN:DAYLIGHT
TZOFFSETFROM:+0000
TZOFFSETTO:+0100
TZNAME:BST
DTSTART:20230326T010000
END:DAYLIGHT
BEGIN:STANDARD
TZOFFSETFROM:+0100
TZOFFSETTO:+0000
TZNAME:GMT
DTSTART:20231029T010000
END:STANDARD
END:VTIMEZONE
BEGIN:VEVENT
DTSTART;TZID=Europe/London:20220907T000000
DTEND;TZID=Europe/London:20220907T133000
DTSTAMP:20260423T195521
CREATED:20220720T142406Z
LAST-MODIFIED:20220908T155425Z
UID:10000012-1662508800-1662557400@turasbelfast.com
SUMMARY:Gaelic East Belfast Bus Tour 100722
DESCRIPTION:Bus tour test page. \nTHIS ITEM IS NOT FOR SALE
URL:https://turasbelfast.com/event/gaelic-east-belfast-bus-tour-10-7-2022/
LOCATION:The National Grande Cafe\, 62 High St\, Belfast\, BT1 2BE\, United Kingdom
CATEGORIES:Gaelic East Belfast Bus Tours
ATTACH;FMTTYPE=image/jpeg:https://turasbelfast.com/wp-content/uploads/2022/07/gaelic-east-belfast-tour-illustration-for-journey-east-gaelic-history-guided-bus-and-walking-tours-in-belfast-and-east-belfast-northern-ireland-horizontal-events-photo-6737.jpg
END:VEVENT
BEGIN:VEVENT
DTSTART;TZID=Europe/London:20220827T123000
DTEND;TZID=Europe/London:20220827T143000
DTSTAMP:20260423T195521
CREATED:20220729T141204Z
LAST-MODIFIED:20220908T155405Z
UID:10000015-1661603400-1661610600@turasbelfast.com
SUMMARY:Gaelic East Belfast Bus Tour 270822
DESCRIPTION:Bus tour test page. \nTHIS ITEM IS NOT FOR SALE \nGaelic East Belfast Bus Tour – \n– for sale by Journey East Bus Tours in Belfast online store \nThis Gaelic history bus tour uncovers a hidden history of east Belfast. Travel to the woods\, streams\, holy grounds and fields of a lost Gaelic world on our journey through the centuries.  \nTour lasts approximately 2 hours. \nBUS TOUR DETAILS \nDiscover the original townland names as we cross the invisible boundaries of the old Gaelic lands of Ballyrushboy\, ‘the yellow townland of the wood’\, Knocknagoney\, ‘the hill of the rabbits’ and Lisnasharragh\, ‘fort of the foals’ and many\, many more. \nHear stories\, both tragic and humorous\, and learn about the characters who once inhabited this place. Encounter an east Belfast you never knew existed. \nAnd come away full of new and interesting facts and experiences about a place rich in Gaelic history and folklore.
URL:https://turasbelfast.com/event/gaelic-east-belfast-bus-tour-270822/
CATEGORIES:Gaelic East Belfast Bus Tours
ATTACH;FMTTYPE=image/jpeg:https://turasbelfast.com/wp-content/uploads/2022/07/gaelic-east-belfast-tour-illustration-for-journey-east-gaelic-history-guided-bus-and-walking-tours-in-belfast-and-east-belfast-northern-ireland-horizontal-events-photo-6737.jpg
END:VEVENT
BEGIN:VEVENT
DTSTART;TZID=Europe/London:20220825T080000
DTEND;TZID=Europe/London:20220825T170000
DTSTAMP:20260423T195521
CREATED:20220825T120104Z
LAST-MODIFIED:20220908T155444Z
UID:10000017-1661414400-1661446800@turasbelfast.com
SUMMARY:Gaelic East Belfast Bus Tour
DESCRIPTION:Bus tour test page. \nTHIS ITEM IS NOT FOR SALE \nGaelic East Belfast Bus Tour – \n– for sale by Journey East Bus Tours in Belfast online store \nThis Gaelic history bus tour uncovers a hidden history of east Belfast. Travel to the woods\, streams\, holy grounds and fields of a lost Gaelic world on our journey through the centuries.  \nTour lasts approximately 2 hours. \nBUS TOUR DETAILS \nDiscover the original townland names as we cross the invisible boundaries of the old Gaelic lands of Ballyrushboy\, ‘the yellow townland of the wood’\, Knocknagoney\, ‘the hill of the rabbits’ and Lisnasharragh\, ‘fort of the foals’ and many\, many more. \nHear stories\, both tragic and humorous\, and learn about the characters who once inhabited this place. Encounter an east Belfast you never knew existed. \nAnd come away full of new and interesting facts and experiences about a place rich in Gaelic history and folklore.
URL:https://turasbelfast.com/event/gaelic-east-belfast-bus-tour/
CATEGORIES:Gaelic East Belfast Bus Tours
ATTACH;FMTTYPE=image/jpeg:https://turasbelfast.com/wp-content/uploads/2022/07/gaelic-east-belfast-tour-illustration-for-journey-east-gaelic-history-guided-bus-and-walking-tours-in-belfast-and-east-belfast-northern-ireland-horizontal-events-photo-6737.jpg
END:VEVENT
END:VCALENDAR