BEGIN:VCALENDAR
VERSION:2.0
PRODID:-//Turas - ECPv6.15.20//NONSGML v1.0//EN
CALSCALE:GREGORIAN
METHOD:PUBLISH
X-ORIGINAL-URL:https://turasbelfast.com
X-WR-CALDESC:Events for Turas
REFRESH-INTERVAL;VALUE=DURATION:PT1H
X-Robots-Tag:noindex
X-PUBLISHED-TTL:PT1H
BEGIN:VTIMEZONE
TZID:Europe/London
BEGIN:DAYLIGHT
TZOFFSETFROM:+0000
TZOFFSETTO:+0100
TZNAME:BST
DTSTART:20240331T010000
END:DAYLIGHT
BEGIN:STANDARD
TZOFFSETFROM:+0100
TZOFFSETTO:+0000
TZNAME:GMT
DTSTART:20241027T010000
END:STANDARD
BEGIN:DAYLIGHT
TZOFFSETFROM:+0000
TZOFFSETTO:+0100
TZNAME:BST
DTSTART:20250330T010000
END:DAYLIGHT
BEGIN:STANDARD
TZOFFSETFROM:+0100
TZOFFSETTO:+0000
TZNAME:GMT
DTSTART:20251026T010000
END:STANDARD
BEGIN:DAYLIGHT
TZOFFSETFROM:+0000
TZOFFSETTO:+0100
TZNAME:BST
DTSTART:20260329T010000
END:DAYLIGHT
BEGIN:STANDARD
TZOFFSETFROM:+0100
TZOFFSETTO:+0000
TZNAME:GMT
DTSTART:20261025T010000
END:STANDARD
BEGIN:DAYLIGHT
TZOFFSETFROM:+0000
TZOFFSETTO:+0100
TZNAME:BST
DTSTART:20270328T010000
END:DAYLIGHT
BEGIN:STANDARD
TZOFFSETFROM:+0100
TZOFFSETTO:+0000
TZNAME:GMT
DTSTART:20271031T010000
END:STANDARD
END:VTIMEZONE
BEGIN:VEVENT
DTSTART;TZID=Europe/London:20260207T100000
DTEND;TZID=Europe/London:20260207T140000
DTSTAMP:20260423T211324
CREATED:20260122T103459Z
LAST-MODIFIED:20260122T180117Z
UID:10000286-1770458400-1770472800@turasbelfast.com
SUMMARY:Dianchúrsa an Earraigh: Ardrang
DESCRIPTION:Dé Sathairn 7ú de mhí Feabhra 2026\nSaturday 7th February 2026\n			\n				\n				\n				\n				\n				10am – 2pm \n			\n			\n				\n				\n				\n				\n			\n				\n				\n				\n				\n				\n				\n				\n				\n				\n				\n				Bígí linn dár gcéad dianchúrsa na bliana 2026. Beidh an cúrsa seo oiriúnach d’fhoghlaimeoirí ardranga. \nJoin us for the first of our intensive courses of 2026! This course will be suitable for advanced learners (ardrang).
URL:https://turasbelfast.com/event/dianchursa-an-earraigh-ardrang-feabhra-2026/
LOCATION:Skainos Centre\, 241 Newtownards Rd\, Belfast\, BT41AF\, United Kingdom
CATEGORIES:Dianchúrsa
ORGANIZER;CN="Turas":MAILTO:niall.pairc@ebm.org.uk
END:VEVENT
BEGIN:VEVENT
DTSTART;TZID=Europe/London:20250823T100000
DTEND;TZID=Europe/London:20250823T160000
DTSTAMP:20260423T211324
CREATED:20250801T184922Z
LAST-MODIFIED:20250823T140510Z
UID:10000260-1755943200-1755964800@turasbelfast.com
SUMMARY:August 2025 Dianchúrsa
DESCRIPTION:Dé Sathairn 23ú de mhí Lunasa 2025\nSaturday 23rd August 2025\n			\n				\n				\n				\n				\n				10am-4pm \n			\n			\n				\n				\n				\n				\n			\n				\n				\n				\n				\n				\n				\n				\n				\n				\n				\n				Fáilte chuig Dianchúrsa an tsamhraidh in Turas – Welcome to the summer intensive course in Turas. \nBeidh Bunrang\, dararang\, meánrang íochtarach\, meánrang uachtarach\, agus ardrang ar fáil. \nA beginners’ class\, second class\, lower intermediate\, upper intermediate\, and advanced classes will be available. \nCeist ar bith\, cuir ríomhphost chuig: stiofan.carson@ebm.org.uk – Any questions\, email: stiofan.carson@ebm.org.uk \nLón san áireamh – Lunch included!
URL:https://turasbelfast.com/event/august-2025-dianchursa/
LOCATION:Skainos Centre\, 241 Newtownards Rd\, Belfast\, BT41AF\, United Kingdom
CATEGORIES:Dianchúrsa
ORGANIZER;CN="Turas":MAILTO:niall.pairc@ebm.org.uk
END:VEVENT
BEGIN:VEVENT
DTSTART;TZID=Europe/London:20250308T100000
DTEND;TZID=Europe/London:20250308T133000
DTSTAMP:20260423T211324
CREATED:20250227T113642Z
LAST-MODIFIED:20250302T213453Z
UID:10000224-1741428000-1741440600@turasbelfast.com
SUMMARY:Ceardlann ar Líne - Online workshop / Briathra na Gaeilge - Verbs in Irish
DESCRIPTION:Beidh Stiofán ag déanamh Ceardlann ar líne\, Dé Sathairn 08/03/25. Díreoidh sé isteach ar an aimsir chaite\, na briathra mírialta\, an chéad agus an dara réimniú\, an aimsir láithreach\, an aimsir fháistineach\, nár agus nach chomh maith le caint indíreach. Is féidir libh clárú anseo agus gheobhaidh sibh nasc do na seisiúin (ní bheidh ort freastal ar achan seisiún ach tá fearadh na fáilte romhat freastal orthu uilig más maith). Beidh an t-imeacht seo saor mar chuid de Sheachtain na Gaeilge. \nStiofán will be doing a workshop on-line\, Saturday 08/03/25. It will focus in on the past tense\, the irregular verbs\, the first and second conjugation\, the present tense\, the future tense\, nár and nach as well as indirect speech. You can register here and you will get a link for the sessions (you will not have to attend all the sessions but you are more than welcome to attend them all if you wish). This event will be free as part of Seachtain na Gaeilge.
URL:https://turasbelfast.com/event/ceardlann-ar-line-snag-2025/
LOCATION:Online
CATEGORIES:Dianchúrsa
ORGANIZER;CN="Turas":MAILTO:niall.pairc@ebm.org.uk
END:VEVENT
END:VCALENDAR