BEGIN:VCALENDAR
VERSION:2.0
PRODID:-//Turas - ECPv6.15.20//NONSGML v1.0//EN
CALSCALE:GREGORIAN
METHOD:PUBLISH
X-WR-CALNAME:Turas
X-ORIGINAL-URL:https://turasbelfast.com
X-WR-CALDESC:Events for Turas
REFRESH-INTERVAL;VALUE=DURATION:PT1H
X-Robots-Tag:noindex
X-PUBLISHED-TTL:PT1H
BEGIN:VTIMEZONE
TZID:Europe/London
BEGIN:DAYLIGHT
TZOFFSETFROM:+0000
TZOFFSETTO:+0100
TZNAME:BST
DTSTART:20210328T010000
END:DAYLIGHT
BEGIN:STANDARD
TZOFFSETFROM:+0100
TZOFFSETTO:+0000
TZNAME:GMT
DTSTART:20211031T010000
END:STANDARD
BEGIN:DAYLIGHT
TZOFFSETFROM:+0000
TZOFFSETTO:+0100
TZNAME:BST
DTSTART:20220327T010000
END:DAYLIGHT
BEGIN:STANDARD
TZOFFSETFROM:+0100
TZOFFSETTO:+0000
TZNAME:GMT
DTSTART:20221030T010000
END:STANDARD
BEGIN:DAYLIGHT
TZOFFSETFROM:+0000
TZOFFSETTO:+0100
TZNAME:BST
DTSTART:20230326T010000
END:DAYLIGHT
BEGIN:STANDARD
TZOFFSETFROM:+0100
TZOFFSETTO:+0000
TZNAME:GMT
DTSTART:20231029T010000
END:STANDARD
BEGIN:DAYLIGHT
TZOFFSETFROM:+0000
TZOFFSETTO:+0100
TZNAME:BST
DTSTART:20240331T010000
END:DAYLIGHT
BEGIN:STANDARD
TZOFFSETFROM:+0100
TZOFFSETTO:+0000
TZNAME:GMT
DTSTART:20241027T010000
END:STANDARD
BEGIN:DAYLIGHT
TZOFFSETFROM:+0000
TZOFFSETTO:+0100
TZNAME:BST
DTSTART:20250330T010000
END:DAYLIGHT
BEGIN:STANDARD
TZOFFSETFROM:+0100
TZOFFSETTO:+0000
TZNAME:GMT
DTSTART:20251026T010000
END:STANDARD
BEGIN:DAYLIGHT
TZOFFSETFROM:+0000
TZOFFSETTO:+0100
TZNAME:BST
DTSTART:20260329T010000
END:DAYLIGHT
BEGIN:STANDARD
TZOFFSETFROM:+0100
TZOFFSETTO:+0000
TZNAME:GMT
DTSTART:20261025T010000
END:STANDARD
END:VTIMEZONE
BEGIN:VEVENT
DTSTART;TZID=Europe/London:20250621T110000
DTEND;TZID=Europe/London:20250621T130000
DTSTAMP:20260423T175142
CREATED:20250321T090832Z
LAST-MODIFIED:20250331T094051Z
UID:10000232-1750503600-1750510800@turasbelfast.com
SUMMARY:Con O’Neill Bus Tour 21st June 2025
DESCRIPTION:This bus tour will transport you back to the ancient townlands once ruled by the last Gaelic Lord of Clandeboye.\nAccompanied by Journey East tour guide you’ll travel back in time\, and experience the dramatic arc of Con O’Neill’s life\, as his story unfolds in the landscape where he rose and fell. \nAs your tour guide weaves together history and folklore in the telling of Con’s story\, you’ll visit these locations: Your tour begins with the ancient rath at Lisnabreeny and the beginning of Gaelic life. \nYou will see the hill of Con’s inauguration\, where he rose to power\, and learn about the curious customs of a ceremony linked to a pagan past. You’ll visit the site\, high in the Castlereagh hills\, where the O’Neill stronghold once stood\, see a panoramic view of Con’s townlands\, and hear the tragic tale of his downfall. You’ll walk the footbridge used by Con and his men to cross the Connswater River\, when they travelled from the coast up to his hilltop castle. \nVisit the overgrown garden which is believed to be the location of Con O’Neill’s final resting place\, and perhaps\, you’ll be inclined to pay your respects to “the auld King” as the tour ends. Tour lasts approximately 2.5 hours.
URL:https://turasbelfast.com/event/con-oneill-bus-tour-21-june-2025/
LOCATION:Skainos Centre\, 241 Newtownards Rd\, Belfast\, BT41AF\, United Kingdom
CATEGORIES:Con O’Neill Bus Tours
ATTACH;FMTTYPE=image/jpeg:https://turasbelfast.com/wp-content/uploads/2022/07/con-oneill-tour-illustration-for-journey-east-gaelic-history-guided-bus-and-walking-tours-in-belfast-and-east-belfast-northern-ireland-horizontal-events-photo-6737.jpg
ORGANIZER;CN="Turas":MAILTO:niall.pairc@ebm.org.uk
END:VEVENT
BEGIN:VEVENT
DTSTART;TZID=Europe/London:20250510T110000
DTEND;TZID=Europe/London:20250510T130000
DTSTAMP:20260423T175142
CREATED:20250321T090712Z
LAST-MODIFIED:20250321T090712Z
UID:10000231-1746874800-1746882000@turasbelfast.com
SUMMARY:Con O’Neill Bus Tour 10th May 2025
DESCRIPTION:This bus tour will transport you back to the ancient townlands once ruled by the last Gaelic Lord of Clandeboye.\nAccompanied by Journey East tour guide you’ll travel back in time\, and experience the dramatic arc of Con O’Neill’s life\, as his story unfolds in the landscape where he rose and fell. \nAs your tour guide weaves together history and folklore in the telling of Con’s story\, you’ll visit these locations: Your tour begins with the ancient rath at Lisnabreeny and the beginning of Gaelic life. \nYou will see the hill of Con’s inauguration\, where he rose to power\, and learn about the curious customs of a ceremony linked to a pagan past. You’ll visit the site\, high in the Castlereagh hills\, where the O’Neill stronghold once stood\, see a panoramic view of Con’s townlands\, and hear the tragic tale of his downfall. You’ll walk the footbridge used by Con and his men to cross the Connswater River\, when they travelled from the coast up to his hilltop castle. \nVisit the overgrown garden which is believed to be the location of Con O’Neill’s final resting place\, and perhaps\, you’ll be inclined to pay your respects to “the auld King” as the tour ends. Tour lasts approximately 2.5 hours.
URL:https://turasbelfast.com/event/con-oneill-bus-tour-10-may-2025/
LOCATION:Skainos Centre\, 241 Newtownards Rd\, Belfast\, BT41AF\, United Kingdom
CATEGORIES:Con O’Neill Bus Tours
ATTACH;FMTTYPE=image/jpeg:https://turasbelfast.com/wp-content/uploads/2022/07/con-oneill-tour-illustration-for-journey-east-gaelic-history-guided-bus-and-walking-tours-in-belfast-and-east-belfast-northern-ireland-horizontal-events-photo-6737.jpg
ORGANIZER;CN="Turas":MAILTO:niall.pairc@ebm.org.uk
END:VEVENT
BEGIN:VEVENT
DTSTART;TZID=Europe/London:20250405T110000
DTEND;TZID=Europe/London:20250405T130000
DTSTAMP:20260423T175142
CREATED:20250321T090348Z
LAST-MODIFIED:20250321T090348Z
UID:10000230-1743850800-1743858000@turasbelfast.com
SUMMARY:Con O’Neill Bus Tour 5th April 2025
DESCRIPTION:This bus tour will transport you back to the ancient townlands once ruled by the last Gaelic Lord of Clandeboye.\nAccompanied by Journey East tour guide you’ll travel back in time\, and experience the dramatic arc of Con O’Neill’s life\, as his story unfolds in the landscape where he rose and fell. \nAs your tour guide weaves together history and folklore in the telling of Con’s story\, you’ll visit these locations: Your tour begins with the ancient rath at Lisnabreeny and the beginning of Gaelic life. \nYou will see the hill of Con’s inauguration\, where he rose to power\, and learn about the curious customs of a ceremony linked to a pagan past. You’ll visit the site\, high in the Castlereagh hills\, where the O’Neill stronghold once stood\, see a panoramic view of Con’s townlands\, and hear the tragic tale of his downfall. You’ll walk the footbridge used by Con and his men to cross the Connswater River\, when they travelled from the coast up to his hilltop castle. \nVisit the overgrown garden which is believed to be the location of Con O’Neill’s final resting place\, and perhaps\, you’ll be inclined to pay your respects to “the auld King” as the tour ends. Tour lasts approximately 2.5 hours.
URL:https://turasbelfast.com/event/con-oneill-bus-tour-5-april-2025/
LOCATION:Skainos Centre\, 241 Newtownards Rd\, Belfast\, BT41AF\, United Kingdom
CATEGORIES:Con O’Neill Bus Tours
ATTACH;FMTTYPE=image/jpeg:https://turasbelfast.com/wp-content/uploads/2022/07/con-oneill-tour-illustration-for-journey-east-gaelic-history-guided-bus-and-walking-tours-in-belfast-and-east-belfast-northern-ireland-horizontal-events-photo-6737.jpg
ORGANIZER;CN="Turas":MAILTO:niall.pairc@ebm.org.uk
END:VEVENT
BEGIN:VEVENT
DTSTART;TZID=Europe/London:20240921T110000
DTEND;TZID=Europe/London:20240921T130000
DTSTAMP:20260423T175142
CREATED:20240904T105210Z
LAST-MODIFIED:20240904T105250Z
UID:10000213-1726916400-1726923600@turasbelfast.com
SUMMARY:Con O’Neill Bus Tour 21st September
DESCRIPTION:This bus tour will transport you back to the ancient townlands once ruled by the last Gaelic Lord of Clandeboye.\nAccompanied by Turas tour guide you’ll travel back in time\, and experience the dramatic arc of Con O’Neill’s life\, as his story unfolds in the landscape where he rose and fell. \nAs your tour guide weaves together history and folklore in the telling of Con’s story\, you’ll visit these locations: Your tour begins with the ancient rath at Lisnabreeny and the beginning of Gaelic life. \nYou will see the hill of Con’s inauguration\, where he rose to power\, and learn about the curious customs of a ceremony linked to a pagan past. You’ll visit the site\, high in the Castlereagh hills\, where the O’Neill stronghold once stood\, see a panoramic view of Con’s townlands\, and hear the tragic tale of his downfall. You’ll walk the footbridge used by Con and his men to cross the Connswater River\, when they travelled from the coast up to his hilltop castle. \nVisit the overgrown garden which is believed to be the location of Con O’Neill’s final resting place\, and perhaps\, you’ll be inclined to pay your respects to “the auld King” as the tour ends. Tour lasts approximately 2.5 hours.
URL:https://turasbelfast.com/event/con-oneill-bus-tour-21-sept-2024/
LOCATION:Skainos Centre\, 241 Newtownards Rd\, Belfast\, BT41AF\, United Kingdom
CATEGORIES:Con O’Neill Bus Tours
ATTACH;FMTTYPE=image/jpeg:https://turasbelfast.com/wp-content/uploads/2022/07/con-oneill-tour-illustration-for-journey-east-gaelic-history-guided-bus-and-walking-tours-in-belfast-and-east-belfast-northern-ireland-horizontal-events-photo-6737.jpg
ORGANIZER;CN="Turas":MAILTO:niall.pairc@ebm.org.uk
END:VEVENT
BEGIN:VEVENT
DTSTART;TZID=Europe/London:20240831T110000
DTEND;TZID=Europe/London:20240831T130000
DTSTAMP:20260423T175142
CREATED:20240812T102219Z
LAST-MODIFIED:20240812T102219Z
UID:10000212-1725102000-1725109200@turasbelfast.com
SUMMARY:Con O’Neill Bus Tour 31 August 24
DESCRIPTION:This bus tour will transport you back to the ancient townlands once ruled by the last Gaelic Lord of Clandeboye.\nAccompanied by Journey East tour guide you’ll travel back in time\, and experience the dramatic arc of Con O’Neill’s life\, as his story unfolds in the landscape where he rose and fell. \nAs your tour guide weaves together history and folklore in the telling of Con’s story\, you’ll visit these locations: Your tour begins with the ancient rath at Lisnabreeny and the beginning of Gaelic life. \nYou will see the hill of Con’s inauguration\, where he rose to power\, and learn about the curious customs of a ceremony linked to a pagan past. You’ll visit the site\, high in the Castlereagh hills\, where the O’Neill stronghold once stood\, see a panoramic view of Con’s townlands\, and hear the tragic tale of his downfall. You’ll walk the footbridge used by Con and his men to cross the Connswater River\, when they travelled from the coast up to his hilltop castle. \nVisit the overgrown garden which is believed to be the location of Con O’Neill’s final resting place\, and perhaps\, you’ll be inclined to pay your respects to “the auld King” as the tour ends. Tour lasts approximately 2.5 hours.
URL:https://turasbelfast.com/event/con-oneill-bus-tour-31-august-24/
LOCATION:Skainos Centre\, 241 Newtownards Rd\, Belfast\, BT41AF\, United Kingdom
CATEGORIES:Con O’Neill Bus Tours
ATTACH;FMTTYPE=image/jpeg:https://turasbelfast.com/wp-content/uploads/2022/07/con-oneill-tour-illustration-for-journey-east-gaelic-history-guided-bus-and-walking-tours-in-belfast-and-east-belfast-northern-ireland-horizontal-events-photo-6737.jpg
ORGANIZER;CN="Turas":MAILTO:niall.pairc@ebm.org.uk
END:VEVENT
BEGIN:VEVENT
DTSTART;TZID=Europe/London:20240720T110000
DTEND;TZID=Europe/London:20240720T133000
DTSTAMP:20260423T175142
CREATED:20240624T145827Z
LAST-MODIFIED:20240624T145827Z
UID:10000207-1721473200-1721482200@turasbelfast.com
SUMMARY:Con O’Neill Bus Tour 20 July 2024
DESCRIPTION:This bus tour will transport you back to the ancient townlands once ruled by the last Gaelic Lord of Clandeboye.\nAccompanied by Journey East tour guide you’ll travel back in time\, and experience the dramatic arc of Con O’Neill’s life\, as his story unfolds in the landscape where he rose and fell. \nAs your tour guide weaves together history and folklore in the telling of Con’s story\, you’ll visit these locations: Your tour begins with the ancient rath at Lisnabreeny and the beginning of Gaelic life. \nYou will see the hill of Con’s inauguration\, where he rose to power\, and learn about the curious customs of a ceremony linked to a pagan past. You’ll visit the site\, high in the Castlereagh hills\, where the O’Neill stronghold once stood\, see a panoramic view of Con’s townlands\, and hear the tragic tale of his downfall. You’ll walk the footbridge used by Con and his men to cross the Connswater River\, when they travelled from the coast up to his hilltop castle. \nVisit the overgrown garden which is believed to be the location of Con O’Neill’s final resting place\, and perhaps\, you’ll be inclined to pay your respects to “the auld King” as the tour ends. Tour lasts approximately 2.5 hours.
URL:https://turasbelfast.com/event/con-oneill-bus-tour-20-july-2024/
LOCATION:Skainos Centre\, 241 Newtownards Rd\, Belfast\, BT41AF\, United Kingdom
CATEGORIES:Con O’Neill Bus Tours
ATTACH;FMTTYPE=image/jpeg:https://turasbelfast.com/wp-content/uploads/2022/07/con-oneill-tour-illustration-for-journey-east-gaelic-history-guided-bus-and-walking-tours-in-belfast-and-east-belfast-northern-ireland-horizontal-events-photo-6737.jpg
END:VEVENT
BEGIN:VEVENT
DTSTART;TZID=Europe/London:20230909T110000
DTEND;TZID=Europe/London:20230909T130000
DTSTAMP:20260423T175142
CREATED:20230730T174709Z
LAST-MODIFIED:20231129T145648Z
UID:10000046-1694257200-1694264400@turasbelfast.com
SUMMARY:Con O’Neill Bus Tour 9th September 2023
DESCRIPTION:This bus tour will transport you back to the ancient townlands once ruled by the last Gaelic Lord of Clandeboye.\nAccompanied by Journey East tour guide you’ll travel back in time\, and experience the dramatic arc of Con O’Neill’s life\, as his story unfolds in the landscape where he rose and fell. \nAs your tour guide weaves together history and folklore in the telling of Con’s story\, you’ll visit these locations: Your tour begins with the ancient rath at Lisnabreeny and the beginning of Gaelic life. \nYou will see the hill of Con’s inauguration\, where he rose to power\, and learn about the curious customs of a ceremony linked to a pagan past. You’ll visit the site\, high in the Castlereagh hills\, where the O’Neill stronghold once stood\, see a panoramic view of Con’s townlands\, and hear the tragic tale of his downfall. You’ll walk the footbridge used by Con and his men to cross the Connswater River\, when they travelled from the coast up to his hilltop castle. \nVisit the overgrown garden which is believed to be the location of Con O’Neill’s final resting place\, and perhaps\, you’ll be inclined to pay your respects to “the auld King” as the tour ends. Tour lasts approximately 2 hours.
URL:https://turasbelfast.com/event/con-oneill-bus-tour-9th-september-2023/
LOCATION:Skainos Centre\, 241 Newtownards Rd\, Belfast\, BT41AF\, United Kingdom
CATEGORIES:Con O’Neill Bus Tours
ATTACH;FMTTYPE=image/jpeg:https://turasbelfast.com/wp-content/uploads/2022/07/con-oneill-tour-illustration-for-journey-east-gaelic-history-guided-bus-and-walking-tours-in-belfast-and-east-belfast-northern-ireland-horizontal-events-photo-6737.jpg
END:VEVENT
BEGIN:VEVENT
DTSTART;TZID=Europe/London:20230624T110000
DTEND;TZID=Europe/London:20230624T130000
DTSTAMP:20260423T175142
CREATED:20230531T133306Z
LAST-MODIFIED:20230616T142744Z
UID:10000040-1687604400-1687611600@turasbelfast.com
SUMMARY:Con O’Neill Bus Tour 24th June 2023
DESCRIPTION:This bus tour will transport you back to the ancient townlands once ruled by the last Gaelic Lord of Clandeboye.\nAccompanied by Journey East tour guide you’ll travel back in time\, and experience the dramatic arc of Con O’Neill’s life\, as his story unfolds in the landscape where he rose and fell. \nAs your tour guide weaves together history and folklore in the telling of Con’s story\, you’ll visit these locations: Your tour begins with the ancient rath at Lisnabreeny and the beginning of Gaelic life. \nYou will see the hill of Con’s inauguration\, where he rose to power\, and learn about the curious customs of a ceremony linked to a pagan past. You’ll visit the site\, high in the Castlereagh hills\, where the O’Neill stronghold once stood\, see a panoramic view of Con’s townlands\, and hear the tragic tale of his downfall. You’ll walk the footbridge used by Con and his men to cross the Connswater River\, when they travelled from the coast up to his hilltop castle. \nVisit the overgrown garden which is believed to be the location of Con O’Neill’s final resting place\, and perhaps\, you’ll be inclined to pay your respects to “the auld King” as the tour ends. Tour lasts approximately 2 hours.
URL:https://turasbelfast.com/event/con-oneill-bus-tour-24th-june-2023/
LOCATION:Skainos Centre\, 241 Newtownards Rd\, Belfast\, BT41AF\, United Kingdom
CATEGORIES:Con O’Neill Bus Tours
ATTACH;FMTTYPE=image/jpeg:https://turasbelfast.com/wp-content/uploads/2022/07/con-oneill-tour-illustration-for-journey-east-gaelic-history-guided-bus-and-walking-tours-in-belfast-and-east-belfast-northern-ireland-horizontal-events-photo-6737.jpg
END:VEVENT
BEGIN:VEVENT
DTSTART;TZID=Europe/London:20230603T110000
DTEND;TZID=Europe/London:20230603T130000
DTSTAMP:20260423T175142
CREATED:20230405T162713Z
LAST-MODIFIED:20230405T162713Z
UID:10000035-1685790000-1685797200@turasbelfast.com
SUMMARY:Con O’Neill Bus Tour 3rd June 2023
DESCRIPTION:This bus tour will transport you back to the ancient townlands once ruled by the last Gaelic Lord of Clandeboye.\nAccompanied by Journey East tour guide you’ll travel back in time\, and experience the dramatic arc of Con O’Neill’s life\, as his story unfolds in the landscape where he rose and fell. \nAs your tour guide weaves together history and folklore in the telling of Con’s story\, you’ll visit these locations: Your tour begins with the ancient rath at Lisnabreeny and the beginning of Gaelic life. \nYou will see the hill of Con’s inauguration\, where he rose to power\, and learn about the curious customs of a ceremony linked to a pagan past. You’ll visit the site\, high in the Castlereagh hills\, where the O’Neill stronghold once stood\, see a panoramic view of Con’s townlands\, and hear the tragic tale of his downfall. You’ll walk the footbridge used by Con and his men to cross the Connswater River\, when they travelled from the coast up to his hilltop castle. \nVisit the overgrown garden which is believed to be the location of Con O’Neill’s final resting place\, and perhaps\, you’ll be inclined to pay your respects to “the auld King” as the tour ends. Tour lasts approximately 2 hours.
URL:https://turasbelfast.com/event/con-oneill-bus-tour-3rd-june-2023/
LOCATION:Skainos Centre\, 241 Newtownards Rd\, Belfast\, BT41AF\, United Kingdom
CATEGORIES:Con O’Neill Bus Tours
ATTACH;FMTTYPE=image/jpeg:https://turasbelfast.com/wp-content/uploads/2022/07/con-oneill-tour-illustration-for-journey-east-gaelic-history-guided-bus-and-walking-tours-in-belfast-and-east-belfast-northern-ireland-horizontal-events-photo-6737.jpg
END:VEVENT
BEGIN:VEVENT
DTSTART;TZID=Europe/London:20230415T110000
DTEND;TZID=Europe/London:20230415T130000
DTSTAMP:20260423T175142
CREATED:20230323T084235Z
LAST-MODIFIED:20230323T084902Z
UID:10000033-1681556400-1681563600@turasbelfast.com
SUMMARY:Con O’Neill Bus Tour 15th April 2023
DESCRIPTION:This bus tour will transport you back to the ancient townlands once ruled by the last Gaelic Lord of Clandeboye.\nAccompanied by Journey East tour guide you’ll travel back in time\, and experience the dramatic arc of Con O’Neill’s life\, as his story unfolds in the landscape where he rose and fell. \nAs your tour guide weaves together history and folklore in the telling of Con’s story\, you’ll visit these locations: Your tour begins with the ancient rath at Lisnabreeny and the beginning of Gaelic life. \nYou will see the hill of Con’s inauguration\, where he rose to power\, and learn about the curious customs of a ceremony linked to a pagan past. You’ll visit the site\, high in the Castlereagh hills\, where the O’Neill stronghold once stood\, see a panoramic view of Con’s townlands\, and hear the tragic tale of his downfall. You’ll walk the footbridge used by Con and his men to cross the Connswater River\, when they travelled from the coast up to his hilltop castle. \nVisit the overgrown garden which is believed to be the location of Con O’Neill’s final resting place\, and perhaps\, you’ll be inclined to pay your respects to “the auld King” as the tour ends. Tour lasts approximately 2 hours.
URL:https://turasbelfast.com/event/con-oneill-bus-tour-15th-april-2023/
LOCATION:Skainos Centre\, 241 Newtownards Rd\, Belfast\, BT41AF\, United Kingdom
CATEGORIES:Con O’Neill Bus Tours
ATTACH;FMTTYPE=image/jpeg:https://turasbelfast.com/wp-content/uploads/2022/07/con-oneill-tour-illustration-for-journey-east-gaelic-history-guided-bus-and-walking-tours-in-belfast-and-east-belfast-northern-ireland-horizontal-events-photo-6737.jpg
END:VEVENT
BEGIN:VEVENT
DTSTART;TZID=Europe/London:20230225T110000
DTEND;TZID=Europe/London:20230225T130000
DTSTAMP:20260423T175142
CREATED:20230113T214234Z
LAST-MODIFIED:20230113T214234Z
UID:10000030-1677322800-1677330000@turasbelfast.com
SUMMARY:Con O’Neill Bus Tour 25th February 2023
DESCRIPTION:This bus tour will transport you back to the ancient townlands once ruled by the last Gaelic Lord of Clandeboye.\nAccompanied by Journey East tour guide you’ll travel back in time\, and experience the dramatic arc of Con O’Neill’s life\, as his story unfolds in the landscape where he rose and fell. \nAs your tour guide weaves together history and folklore in the telling of Con’s story\, you’ll visit these locations: Your tour begins with the ancient rath at Lisnabreeny and the beginning of Gaelic life. \nYou will see the hill of Con’s inauguration\, where he rose to power\, and learn about the curious customs of a ceremony linked to a pagan past. You’ll visit the site\, high in the Castlereagh hills\, where the O’Neill stronghold once stood\, see a panoramic view of Con’s townlands\, and hear the tragic tale of his downfall. You’ll walk the footbridge used by Con and his men to cross the Connswater River\, when they travelled from the coast up to his hilltop castle. \nVisit the overgrown garden which is believed to be the location of Con O’Neill’s final resting place\, and perhaps\, you’ll be inclined to pay your respects to “the auld King” as the tour ends. Tour lasts approximately 2 hours.
URL:https://turasbelfast.com/event/journey-east-gaelic-history-and-walking-tours-of-east-belfast/
LOCATION:Skainos Centre\, 241 Newtownards Rd\, Belfast\, BT41AF\, United Kingdom
CATEGORIES:Con O’Neill Bus Tours
ATTACH;FMTTYPE=image/jpeg:https://turasbelfast.com/wp-content/uploads/2022/07/con-oneill-tour-illustration-for-journey-east-gaelic-history-guided-bus-and-walking-tours-in-belfast-and-east-belfast-northern-ireland-horizontal-events-photo-6737.jpg
END:VEVENT
BEGIN:VEVENT
DTSTART;TZID=Europe/London:20221119T110000
DTEND;TZID=Europe/London:20221119T130000
DTSTAMP:20260423T175142
CREATED:20221025T120241Z
LAST-MODIFIED:20221025T123012Z
UID:10000028-1668855600-1668862800@turasbelfast.com
SUMMARY:Con O’Neill Bus Tour 191122
DESCRIPTION:This bus tour will transport you back to the ancient townlands once ruled by the last Gaelic Lord of Clandeboye.\nAccompanied by Journey East tour guide you’ll travel back in time\, and experience the dramatic arc of Con O’Neill’s life\, as his story unfolds in the landscape where he rose and fell. \nAs your tour guide weaves together history and folklore in the telling of Con’s story\, you’ll visit these locations: Your tour begins with the ancient rath at Lisnabreeny and the beginning of Gaelic life. \nYou will see the hill of Con’s inauguration\, where he rose to power\, and learn about the curious customs of a ceremony linked to a pagan past. You’ll visit the site\, high in the Castlereagh hills\, where the O’Neill stronghold once stood\, see a panoramic view of Con’s townlands\, and hear the tragic tale of his downfall. You’ll walk the footbridge used by Con and his men to cross the Connswater River\, when they travelled from the coast up to his hilltop castle. \nVisit the overgrown garden which is believed to be the location of Con O’Neill’s final resting place\, and perhaps\, you’ll be inclined to pay your respects to “the auld King” as the tour ends. Tour lasts approximately 2 hours.
URL:https://turasbelfast.com/event/con-oneill-bus-tour-191122/
LOCATION:Skainos Centre\, 241 Newtownards Rd\, Belfast\, BT41AF\, United Kingdom
CATEGORIES:Con O’Neill Bus Tours
ATTACH;FMTTYPE=image/jpeg:https://turasbelfast.com/wp-content/uploads/2022/07/con-oneill-tour-illustration-for-journey-east-gaelic-history-guided-bus-and-walking-tours-in-belfast-and-east-belfast-northern-ireland-horizontal-events-photo-6737.jpg
END:VEVENT
BEGIN:VEVENT
DTSTART;TZID=Europe/London:20221015T110000
DTEND;TZID=Europe/London:20221015T130000
DTSTAMP:20260423T175142
CREATED:20221003T151458Z
LAST-MODIFIED:20221004T102449Z
UID:10000025-1665831600-1665838800@turasbelfast.com
SUMMARY:Con O’Neill Bus Tour 151022
DESCRIPTION:This bus tour will transport you back to the ancient townlands once ruled by the last Gaelic Lord of Clandeboye.\nAccompanied by Journey East tour guide you’ll travel back in time\, and experience the dramatic arc of Con O’Neill’s life\, as his story unfolds in the landscape where he rose and fell. \nAs your tour guide weaves together history and folklore in the telling of Con’s story\, you’ll visit these locations: Your tour begins with the ancient rath at Lisnabreeny and the beginning of Gaelic life. \nYou will see the hill of Con’s inauguration\, where he rose to power\, and learn about the curious customs of a ceremony linked to a pagan past. You’ll visit the site\, high in the Castlereagh hills\, where the O’Neill stronghold once stood\, see a panoramic view of Con’s townlands\, and hear the tragic tale of his downfall. You’ll walk the footbridge used by Con and his men to cross the Connswater River\, when they travelled from the coast up to his hilltop castle. \nVisit the overgrown garden which is believed to be the location of Con O’Neill’s final resting place\, and perhaps\, you’ll be inclined to pay your respects to “the auld King” as the tour ends. Tour lasts approximately 2 hours.
URL:https://turasbelfast.com/event/con-oneill-bus-tour-151022/
LOCATION:Skainos Centre\, 241 Newtownards Rd\, Belfast\, BT41AF\, United Kingdom
CATEGORIES:Con O’Neill Bus Tours
ATTACH;FMTTYPE=image/jpeg:https://turasbelfast.com/wp-content/uploads/2022/07/con-oneill-tour-illustration-for-journey-east-gaelic-history-guided-bus-and-walking-tours-in-belfast-and-east-belfast-northern-ireland-horizontal-events-photo-6737.jpg
END:VEVENT
BEGIN:VEVENT
DTSTART;VALUE=DATE:20220725
DTEND;VALUE=DATE:20220726
DTSTAMP:20260423T175142
CREATED:20220720T142618Z
LAST-MODIFIED:20220908T155529Z
UID:10000013-1658707200-1658793599@turasbelfast.com
SUMMARY:Con O’Neill Bus Tour 250722
DESCRIPTION:Bus tour test page. \nTHIS ITEM IS NOT FOR SALE
URL:https://turasbelfast.com/event/con-oneill-bus-tour-25-7-2022/
LOCATION:The National Grande Cafe\, 62 High St\, Belfast\, BT1 2BE\, United Kingdom
CATEGORIES:Con O’Neill Bus Tours
ATTACH;FMTTYPE=image/jpeg:https://turasbelfast.com/wp-content/uploads/2022/07/con-oneill-tour-illustration-for-journey-east-gaelic-history-guided-bus-and-walking-tours-in-belfast-and-east-belfast-northern-ireland-horizontal-events-photo-6737.jpg
ORGANIZER;CN="Mr haden":MAILTO:info@google.com
END:VEVENT
END:VCALENDAR